BEGIN:VCALENDAR
VERSION:2.0
PRODID:icalendar-ruby
CALSCALE:GREGORIAN
METHOD:PUBLISH
BEGIN:VEVENT
DTSTAMP:20260423T150247Z
UID:38-295308@demotteunitedmethodist.org
DTSTART;VALUE=DATE:20260422
DTEND;VALUE=DATE:20260622
CLASS:PUBLIC
CREATED:20260422T122819
DESCRIPTION:Bring in your clothes\, antiques\, dishes\, shoes\, toys\, and 
 other items collecting dust around your house!  We will take everything e
 xcept electronic devices.  Bring items in durning our office hours\; Mond
 ay to Friday 9 am to 12 pm
LAST-MODIFIED:20260422T122819
LOCATION:227 N Halleck Street DeMotte\, Indiana
SUMMARY:Rummage Sale Collection
URL;VALUE=URI:https://www.demotteunitedmethodist.org/events/rummage-sale-co
 llection/2026-04-22
ATTACH;FILENAME=2026 Rummage Sale Donation.png;FMTTYPE=image/png:https://dq
 5pwpg1q8ru0.cloudfront.net/2026/04/22/17/25/54/7552ddd3-edea-49ab-b4ee-078
 2f22f64c8/2026%20Rummage%20Sale%20Donation.png
END:VEVENT
END:VCALENDAR
